BEGIN:VCALENDAR
PRODID:NingEventWidget-v1
VERSION:2.0
METHOD:PUBLISH
BEGIN:VTIMEZONE
TZID:Europe/London
X-LIC-LOCATION:Europe/London
BEGIN:DAYLIGHT
TZOFFSETFROM:+0000
TZOFFSETTO:+0100
TZNAME:BST
DTSTART:19700329T010000
RRULE:FREQ=YEARLY;BYMONTH=3;BYDAY=-1SU
END:DAYLIGHT
BEGIN:STANDARD
TZOFFSETFROM:+0100
TZOFFSETTO:+0000
TZNAME:GMT
DTSTART:19701025T020000
RRULE:FREQ=YEARLY;BYMONTH=10;BYDAY=-1SU
END:STANDARD
END:VTIMEZONE
BEGIN:VEVENT
UID:5106867:Event:7002
DTSTAMP:20260421T190019Z
SUMMARY:Angel Workshop
DESCRIPTION:This workshop will show you how to develop your own relati
 onship with the Angels. By using art and creativity, to commune with t
 he Angelic Realm, and deepen your conscious awareness and your recepti
 veness to divine inspiration within your life.\nÂ \nThe laws, mythos a
 nd history of the Angels will also be explored in depth. Come and expe
 rience the wonders of the Angels and let their gracious light raise yo
 ur hearts vibrations.\nÂ \nWith Jeorge Asare-Djan\nÂ \nJeorge Asare-Dj
 an is an Artist and sensitive of many years experience. His study and 
 love for the Angelic Realm, combined with his artistic intuition has o
 pened his perception to the Angels in a unique way, allowing him to ph
 otograph them in their activity at work and play within the environmen
 t.\nÂ \nSaturday 24th September 2011\nTime: 1030am to 4.30pm\nPrice: Â
 £12.50 Non-members,Â  Â£10.00 members\n\nFor more information visit ht
 tps://angelmanimages.com/events/angel-workshop
DTSTART;TZID=Europe/London:20110924T103000
DTEND;TZID=Europe/London:20110924T163000
CATEGORIES:workshop
LOCATION:Eltham Spiritualist Church
WEBSITE:http://www.elthamspiritualistchurch.org.uk
URL:http://www.elthamspiritualistchurch.org.uk
CONTACT:020 8854 7800
ORGANIZER;CN=Jeorge:https://angelmanimages.com/profile/Jeorge
ATTACH;FMTTYPE="image/jpeg":http://storage.ning.com/topology/rest/1.0/
 file/get/3056733402?profile=original
ATTENDEE;ROLE=REQ-PARTICIPANT;PARTSTAT=ACCEPTED;RSVP=TRUE;CN=Jeorge:ht
 tps://angelmanimages.com/profile/Jeorge
END:VEVENT
END:VCALENDAR
