BEGIN:VCALENDAR
PRODID:NingEventWidget-v1
VERSION:2.0
METHOD:PUBLISH
BEGIN:VTIMEZONE
TZID:Europe/London
X-LIC-LOCATION:Europe/London
BEGIN:DAYLIGHT
TZOFFSETFROM:+0000
TZOFFSETTO:+0100
TZNAME:BST
DTSTART:19700329T010000
RRULE:FREQ=YEARLY;BYMONTH=3;BYDAY=-1SU
END:DAYLIGHT
BEGIN:STANDARD
TZOFFSETFROM:+0100
TZOFFSETTO:+0000
TZNAME:GMT
DTSTART:19701025T020000
RRULE:FREQ=YEARLY;BYMONTH=10;BYDAY=-1SU
END:STANDARD
END:VTIMEZONE
BEGIN:VEVENT
UID:5106867:Event:13111
DTSTAMP:20260421T223737Z
SUMMARY:Angels, Devas and Faeries Workshop
DESCRIPTION:With Jeorge Asare-Djan\n \nThis workshop will show you ho
 w to develop your own relationship with the Angels, Devas & Faeries. B
 y using art and creativity, to commune with the Angelic Realm, and dee
 pen your conscious awareness and your receptiveness to divine inspirat
 ion in your life.\n \nThe laws, mythos and history of the Angels will
  be explored in depth. Come and experience the wonders of the Angels a
 nd raise your hearts vibrations.\n\nTime: 11am to 4pm\nPrice: £15 con
 cessions £12\n\n\n\nTestimonials\n\nThank you George for a most inter
 esting  workshop. I have also enjoyed looking at your work. I find th
 e photographs fascinating....\n\nFrom Gloria Alexander\n\n\nThank you 
 for a great workshop. Hope to meet up again sometime and good luck wit
 h the other workshops etc.\nBest\nPeter Piarwood\n \nAbout the lectur
 er\n \nJeorge Asare-Djan is an Artist and sensitive of many years exp
 erience. His study and love for the Angelic Realm, combined with his a
 rtistic intuition has opened his perception to the Angels in a unique 
 way, allowing him to photograph them in their activity at work and pla
 y within the environment.\n\n\nFor more information visit https://ange
 lmanimages.com/events/angels-devas-and-faeries-workshop
DTSTART;TZID=Europe/London:20120310T110000
DTEND;TZID=Europe/London:20120310T160000
CATEGORIES:workshop
LOCATION:Rochester Square Temple
WEBSITE:
URL:
CONTACT:m: 07913 788 390
ORGANIZER:Jeorge Asare-Djan & Alison Green
ATTACH;FMTTYPE="image/jpeg":http://storage.ning.com/topology/rest/1.0/
 file/get/3056733402?profile=original
ATTENDEE;ROLE=REQ-PARTICIPANT;PARTSTAT=ACCEPTED;RSVP=TRUE;CN=Jeorge:ht
 tps://angelmanimages.com/profile/Jeorge
ATTENDEE;ROLE=REQ-PARTICIPANT;PARTSTAT=TENTATIVE;RSVP=TRUE;CN="David I
 rvin":https://angelmanimages.com/profile/DavidIrvin
END:VEVENT
END:VCALENDAR
