BEGIN:VCALENDAR
PRODID:NingEventWidget-v1
VERSION:2.0
METHOD:PUBLISH
BEGIN:VTIMEZONE
TZID:Europe/London
X-LIC-LOCATION:Europe/London
BEGIN:DAYLIGHT
TZOFFSETFROM:+0000
TZOFFSETTO:+0100
TZNAME:BST
DTSTART:19700329T010000
RRULE:FREQ=YEARLY;BYMONTH=3;BYDAY=-1SU
END:DAYLIGHT
BEGIN:STANDARD
TZOFFSETFROM:+0100
TZOFFSETTO:+0000
TZNAME:GMT
DTSTART:19701025T020000
RRULE:FREQ=YEARLY;BYMONTH=10;BYDAY=-1SU
END:STANDARD
END:VTIMEZONE
BEGIN:VEVENT
UID:5106867:Event:121322
DTSTAMP:20260422T113454Z
SUMMARY:Angels, Devas & Fairies Workshop
DESCRIPTION:Connect with the Magic Within!\r\nOn Saturday 13th Septemb
 er, join Bro. Jeorge ( the Fairy Whisper ), for an exciting workshop o
 n Angels. Learn who and what the Angels and their kinfolk the Fairies 
 actually are. Learn how to connect with the Angels through the power o
 f the intuition using art, visualisation, creative writing, meditation
  and many other creative forms.\r\n \r\nWe will also be taking you on
  guided journeys to meet your Guardian Angels, and will be showing you
  dynamic ways to connect with them. We will also be healing with our A
 ngels, and much more. Join us on the 13th of September and experience 
 the magical world of the Angels, Devas & Fairies and learn how to brin
 g them closer into your life!\r\n \r\nAbout Your Lecturer\r\nBro. Jeo
 rge is an Artist, Visionary, Spiritual Healer, Angel communicator, Med
 ium & Photographer. He has worked extensively in multiple fields of Sp
 iritual work for more than 20 years. He has also been photographing ph
 enomena for more than 16 years. He has held exhibitions on Spirit phot
 ography and Spiritual Art, run workshops on varied subjects including 
 ‘Working with the Initiation’, ‘Using Art to connect with Spirit
 ’ & ‘Getting to know your Guardian Angels’. He has also Lectured
  on the world of Angels, Fairies & the Orb Phenomena for over 16 years
 , and is currently putting together his first book of the subject enti
 tled ‘Angels, Orbs & Fairies’.\r\n \r\n \r\nOn Saturday 13th Sep
 tember 2025 \r\nTime: 11:30am to 4:30pm\r\nEntrance: £25  / Members:
  £20  /  + Concessions for Children, OAPs & Non-Working\r\n*£10 de
 posit required to reserve a place\r\n \r\nVenue:  Balham Spiritualis
 t Church,\r\nHamilton Hall, 211a Balham High Rd,  London SW17 7BQ\r\n
  \r\nFor enquires contact Bro Jeorge on: 0777 268 0856   For booking
 s & reservations; contact Balham Church on:  0794 609 7855\n\nFor mor
 e information visit https://angelmanimages.com/events/angels-devas-fai
 ries-workshop-2
DTSTART;TZID=Europe/London:20250913T113000
DTEND;TZID=Europe/London:20250913T163000
CATEGORIES:workshop
LOCATION:Balham Spiritualist Church
WEBSITE:
URL:
CONTACT:For enquires 07772680856 / For bookings 0794 609 7855
ORGANIZER;CN=Jeorge:https://angelmanimages.com/profile/Jeorge
ATTACH;FMTTYPE="image/jpeg":https://storage.ning.com/topology/rest/1.0
 /file/get/13686563472?profile=original
ATTENDEE;ROLE=REQ-PARTICIPANT;PARTSTAT=ACCEPTED;RSVP=TRUE;CN=Jeorge:ht
 tps://angelmanimages.com/profile/Jeorge
END:VEVENT
END:VCALENDAR
