BEGIN:VCALENDAR
PRODID:NingEventWidget-v1
VERSION:2.0
METHOD:PUBLISH
BEGIN:VTIMEZONE
TZID:Europe/London
X-LIC-LOCATION:Europe/London
BEGIN:DAYLIGHT
TZOFFSETFROM:+0000
TZOFFSETTO:+0100
TZNAME:BST
DTSTART:19700329T010000
RRULE:FREQ=YEARLY;BYMONTH=3;BYDAY=-1SU
END:DAYLIGHT
BEGIN:STANDARD
TZOFFSETFROM:+0100
TZOFFSETTO:+0000
TZNAME:GMT
DTSTART:19701025T020000
RRULE:FREQ=YEARLY;BYMONTH=10;BYDAY=-1SU
END:STANDARD
END:VTIMEZONE
BEGIN:VEVENT
UID:5106867:Event:15902
DTSTAMP:20260422T002703Z
SUMMARY:Discussing Angels
DESCRIPTION:I will be leading an open forum where all things Angelic w
 ill be discussed. Everything from the High Angels to the smallest Faer
 ies, their relationships to us and the environment, healing as well as
  interacting with the Angels will be explored and much more.\n \nThis
  is an open forum discussion group which will flow towards the areas o
 f the participants personal interests. Why not come and explore and sh
 are your own insights and experiences of the Angelic Realm in the comp
 any like minded people and possibly the company of the Angels too ( th
 ey always seem to be there when people gather in a earnest and true sp
 irit ).  \n \nThis talk is part of a session of discussion group tal
 ks on various Spiritual subjects, that take place on a monthly bases a
 t Woodford Spiritualist Church. For the month of September the discuss
 ion is on Angels, for which I am delighted to have been invited to lea
 d. This forum is good for beginners as well as those who are well vers
 ed on the subject, all are welcome.\n \nTo find out more about the di
 scussion group at Woodford Church and the subjects on discussion later
  on this year, you can visit their website or contact them directly, t
 heir details are below.\n\nFor more information visit https://angelman
 images.com/events/discussing-angels
DTSTART;TZID=Europe/London:20120909T163000
DTEND;TZID=Europe/London:20120909T173000
CATEGORIES:discussion, "group.", talk
LOCATION:Woodford Spiritualist Church
WEBSITE:http://www.woodfordchurch.com
URL:http://www.woodfordchurch.com
CONTACT:020 8989 6149
ORGANIZER:Jeorge and John Rooney
ATTACH;FMTTYPE="image/jpeg":http://storage.ning.com/topology/rest/1.0/
 file/get/3056733402?profile=original
ATTENDEE;ROLE=REQ-PARTICIPANT;PARTSTAT=ACCEPTED;RSVP=TRUE;CN=Jeorge:ht
 tps://angelmanimages.com/profile/Jeorge
END:VEVENT
END:VCALENDAR
