BEGIN:VCALENDAR
PRODID:NingEventWidget-v1
VERSION:2.0
METHOD:PUBLISH
BEGIN:VTIMEZONE
TZID:Europe/London
X-LIC-LOCATION:Europe/London
BEGIN:DAYLIGHT
TZOFFSETFROM:+0000
TZOFFSETTO:+0100
TZNAME:BST
DTSTART:19700329T010000
RRULE:FREQ=YEARLY;BYMONTH=3;BYDAY=-1SU
END:DAYLIGHT
BEGIN:STANDARD
TZOFFSETFROM:+0100
TZOFFSETTO:+0000
TZNAME:GMT
DTSTART:19701025T020000
RRULE:FREQ=YEARLY;BYMONTH=10;BYDAY=-1SU
END:STANDARD
END:VTIMEZONE
BEGIN:VEVENT
UID:5106867:Event:426
DTSTAMP:20260422T094213Z
SUMMARY:Evening of Clairvoyance
DESCRIPTION:Violet Moon Spiritual Centre Invites you to join Internati
 onal clairvoyants Anthony Harmony, Violet Moon, Maggie Jones, Sylvia W
 ooloff in an Inspired Evening of Clairvoyance, with special guest appe
 arance by Jeorge Asare-Djan showcasing unique photographic evidence of
  the Angelic Realm. On Thursday 24th June 2010.\n\nTickets: £18.50\n\
 nTo book tickets call: 0208 667 1019\n\nFor more information visit htt
 ps://angelmanimages.com/events/evening-of-clairvoyance
DTSTART;TZID=Europe/London:20100624T190000
DTEND;TZID=Europe/London:20100624T213000
CATEGORIES:clairvoyance, and, angelic, philosophy
LOCATION:The Warehouse Theatre
WEBSITE:
URL:
CONTACT:020 8667 1019
ORGANIZER:Violet Moon
ATTACH;FMTTYPE="image/jpeg":http://storage.ning.com/topology/rest/1.0/
 file/get/3056731274?profile=original
ATTENDEE;ROLE=REQ-PARTICIPANT;PARTSTAT=ACCEPTED;RSVP=TRUE;CN=Jeorge:ht
 tps://angelmanimages.com/profile/Jeorge
END:VEVENT
END:VCALENDAR
