BEGIN:VCALENDAR
PRODID:NingEventWidget-v1
VERSION:2.0
METHOD:PUBLISH
BEGIN:VTIMEZONE
TZID:Europe/London
X-LIC-LOCATION:Europe/London
BEGIN:DAYLIGHT
TZOFFSETFROM:+0000
TZOFFSETTO:+0100
TZNAME:BST
DTSTART:19700329T010000
RRULE:FREQ=YEARLY;BYMONTH=3;BYDAY=-1SU
END:DAYLIGHT
BEGIN:STANDARD
TZOFFSETFROM:+0100
TZOFFSETTO:+0000
TZNAME:GMT
DTSTART:19701025T020000
RRULE:FREQ=YEARLY;BYMONTH=10;BYDAY=-1SU
END:STANDARD
END:VTIMEZONE
BEGIN:VEVENT
UID:5106867:Event:25501
DTSTAMP:20260422T080234Z
SUMMARY:Mediumship at Tolworth Church
DESCRIPTION:Sunday service at Tolworth Church in Tolworth near Surbiti
 on. The service starts at 6.30pm. All those who live near by are welco
 me to attend. I'll be the medium on this fine day.\n\nFor more informa
 tion visit https://angelmanimages.com/events/mediumship-at-tolworth-ch
 urch
DTSTART;TZID=Europe/London:20140629T183000
DTEND;TZID=Europe/London:20140629T193000
CATEGORIES:meduimship, service
LOCATION:Tolworth Spiritualist Church
WEBSITE:
URL:
CONTACT:For enquiries, call Rosemary on 07528 222385
ORGANIZER;CN=Jeorge:https://angelmanimages.com/profile/Jeorge
ATTACH;FMTTYPE="image/jpeg":
ATTENDEE;ROLE=REQ-PARTICIPANT;PARTSTAT=ACCEPTED;RSVP=TRUE;CN=Jeorge:ht
 tps://angelmanimages.com/profile/Jeorge
END:VEVENT
END:VCALENDAR
