BEGIN:VCALENDAR
PRODID:NingEventWidget-v1
VERSION:2.0
METHOD:PUBLISH
BEGIN:VTIMEZONE
TZID:Europe/London
X-LIC-LOCATION:Europe/London
BEGIN:DAYLIGHT
TZOFFSETFROM:+0000
TZOFFSETTO:+0100
TZNAME:BST
DTSTART:19700329T010000
RRULE:FREQ=YEARLY;BYMONTH=3;BYDAY=-1SU
END:DAYLIGHT
BEGIN:STANDARD
TZOFFSETFROM:+0100
TZOFFSETTO:+0000
TZNAME:GMT
DTSTART:19701025T020000
RRULE:FREQ=YEARLY;BYMONTH=10;BYDAY=-1SU
END:STANDARD
END:VTIMEZONE
BEGIN:VEVENT
UID:5106867:Event:5801
DTSTAMP:20260421T205759Z
SUMMARY:Seeing Angels & Faeries
DESCRIPTION:This illustrated talk will showcase actual photographs of 
 Angels and their kinfolk, and will reveal insights into the wondrous w
 orkings of the Angelic realm. By comparing the myths, traditions and l
 egends of the Faerie Folk, with the photographic evidence of beautiful
 ly captured images of Angels, Faeries and Devas, the links and connect
 ions between different cultural descriptions of divine beings will be 
 explored and elucidated upon.\n \nAbout the lecturer\n \nJeorge Asar
 e-Djan is an Artist and sensitive of many years experience. His study 
 and love for the Angelic Realm, combined with his artistic intuition h
 as opened his perception to the Angels in a unique way, allowing him t
 o photograph them in their activity at work and play within the enviro
 nment.\n \n \n18th November FridAY - 19:00 - 20:30Admission £7\n
  \nRochester Square Temple\nRochester Square\noff Camden Road\nLondon
  NW1 9RY\n \nM: +44 (0) 791 378 8390\nM: +44 (0) 777 268 0856\n \n 
 \n\nFor more information visit https://angelmanimages.com/events/seein
 g-angels-faeries
DTSTART;TZID=Europe/London:20111118T190000
DTEND;TZID=Europe/London:20111118T203000
CATEGORIES:lecture
LOCATION:Rochester Square Temple
WEBSITE:
URL:
CONTACT:44 (0) 791 378 8390 ( Alison Green ) or 44 (0) 777 268 0856 ( 
 for Jeorge )
ORGANIZER;CN=Jeorge:https://angelmanimages.com/profile/Jeorge
ATTACH;FMTTYPE="image/jpeg":http://storage.ning.com/topology/rest/1.0/
 file/get/3056733578?profile=original
ATTENDEE;ROLE=REQ-PARTICIPANT;PARTSTAT=ACCEPTED;RSVP=TRUE;CN=Jeorge:ht
 tps://angelmanimages.com/profile/Jeorge
END:VEVENT
END:VCALENDAR
