BEGIN:VCALENDAR
PRODID:NingEventWidget-v1
VERSION:2.0
METHOD:PUBLISH
BEGIN:VTIMEZONE
TZID:Europe/London
X-LIC-LOCATION:Europe/London
BEGIN:DAYLIGHT
TZOFFSETFROM:+0000
TZOFFSETTO:+0100
TZNAME:BST
DTSTART:19700329T010000
RRULE:FREQ=YEARLY;BYMONTH=3;BYDAY=-1SU
END:DAYLIGHT
BEGIN:STANDARD
TZOFFSETFROM:+0100
TZOFFSETTO:+0000
TZNAME:GMT
DTSTART:19701025T020000
RRULE:FREQ=YEARLY;BYMONTH=10;BYDAY=-1SU
END:STANDARD
END:VTIMEZONE
BEGIN:VEVENT
UID:5106867:Event:122202
DTSTAMP:20260422T153632Z
SUMMARY:Spirit Photography in Egypt
DESCRIPTION:\r\n\r\nâœ¨Spirit Photography in Egyptâœ¨\r\nÂ \r\nJoin us
  for an extraordinary evening of Angelic Sightings!\r\nÂ \r\nWith Brot
 her Jeorge â€“ the Angel Photographer & Fairy Whisper\r\nas he shares 
 inspiring spiritual photographs taken from Ancient lands and Holy loca
 tions!\r\nÂ \r\n\"I've recently returned from Egypt, where I recorded 
 some astonishing images of Angels and many other orders of Spiritual b
 eings, that I can't wait to share with you!\"\r\nÂ \r\nðŸ‘¼ Expect ima
 ges of Angels, Guardians and the Divine, revealing both the SEEN and U
 NSEEN worlds\r\nÂ \r\nSaturday 9th May â€“ 7pm to 9pm\r\nStockwell Spi
 ritualist Church,\r\nSt Michael's Rd, London SW9 0SL\r\nÂ \r\nEntrance
 : Â£7 (Pay on the door)âœ¨\r\nÂ \r\nðŸ“ž To book or enquire:\r\nMob: 0
 777 268 0856\r\nTel: 0751 289 0891\r\nEmail: jeorge@hotmail.co.uk\r\nÂ
  \r\nDonâ€™t miss this chance to connect with the magic within âœ¨\n\n
 For more information visit https://angelmanimages.com/events/spirit-ph
 otography-in-egypt
DTSTART;TZID=Europe/London:20260509T190000
DTEND;TZID=Europe/London:20260509T210000
CATEGORIES:lecture
LOCATION:Stockwell Spiritualist Church
WEBSITE:
URL:
CONTACT:0751 289 0891
ORGANIZER;CN=Jeorge:https://angelmanimages.com/profile/Jeorge
ATTACH;FMTTYPE="image/jpeg":https://storage.ning.com/topology/rest/1.0
 /file/get/31135710468?profile=original
ATTENDEE;ROLE=REQ-PARTICIPANT;PARTSTAT=ACCEPTED;RSVP=TRUE;CN=Jeorge:ht
 tps://angelmanimages.com/profile/Jeorge
END:VEVENT
END:VCALENDAR
