BEGIN:VCALENDAR
PRODID:NingEventWidget-v1
VERSION:2.0
METHOD:PUBLISH
BEGIN:VTIMEZONE
TZID:Europe/London
X-LIC-LOCATION:Europe/London
BEGIN:DAYLIGHT
TZOFFSETFROM:+0000
TZOFFSETTO:+0100
TZNAME:BST
DTSTART:19700329T010000
RRULE:FREQ=YEARLY;BYMONTH=3;BYDAY=-1SU
END:DAYLIGHT
BEGIN:STANDARD
TZOFFSETFROM:+0100
TZOFFSETTO:+0000
TZNAME:GMT
DTSTART:19701025T020000
RRULE:FREQ=YEARLY;BYMONTH=10;BYDAY=-1SU
END:STANDARD
END:VTIMEZONE
BEGIN:VEVENT
UID:5106867:Event:24902
DTSTAMP:20260422T062437Z
SUMMARY:Working with Angels
DESCRIPTION:This workshop will show you how to develop your own relati
 onship with the Angels & Faerie Kingdom. By using art and creativity, 
 to commune with the Angelic Realm, and deepen your conscious awareness
  and your receptiveness to divine inspiration within your life.\n \nT
 he laws, mythos and history of the Angels will also be explored in dep
 th. Come and experience the wonders of the Angels and let their gracio
 us light raise your hearts vibrations.\nThis will be a development to 
 a previous workshop done at Eltham church, whilst covering elements of
  the first workshop, it will also be delving deeper into methods of wo
 rking in partnership with the Angelic Realm.\n \nWith Jeorge Asare-Dj
 an\nJeorge Asare-Djan is an Artist and sensitive of many years experie
 nce. His study and love for the Angelic Realm, combined with his artis
 tic intuition has opened his perception to the Angels in a unique way,
  allowing him to photograph them in their activity at work and play wi
 thin the environment.\n \nSaturday 21st June 2014\nTime: 10.30am to 4
 .30pm\nPrice: £12.50 Non-members,  £10.00 members\n\nFor more infor
 mation visit https://angelmanimages.com/events/working-with-angels
DTSTART;TZID=Europe/London:20140621T093000
DTEND;TZID=Europe/London:20140621T163000
CATEGORIES:workshop
LOCATION:Eltham Spiritual Church
WEBSITE:
URL:
CONTACT:0208856 6742
ORGANIZER;CN=Jeorge:https://angelmanimages.com/profile/Jeorge
ATTACH;FMTTYPE="image/jpeg":http://storage.ning.com/topology/rest/1.0/
 file/get/3056733402?profile=original
ATTENDEE;ROLE=REQ-PARTICIPANT;PARTSTAT=ACCEPTED;RSVP=TRUE;CN="sharron 
 jane":https://angelmanimages.com/profile/sharronjane
ATTENDEE;ROLE=REQ-PARTICIPANT;PARTSTAT=ACCEPTED;RSVP=TRUE;CN=Jeorge:ht
 tps://angelmanimages.com/profile/Jeorge
END:VEVENT
END:VCALENDAR
