BEGIN:VCALENDAR
PRODID:NingEventWidget-v1
VERSION:2.0
METHOD:PUBLISH
BEGIN:VTIMEZONE
TZID:Europe/London
X-LIC-LOCATION:Europe/London
BEGIN:DAYLIGHT
TZOFFSETFROM:+0000
TZOFFSETTO:+0100
TZNAME:BST
DTSTART:19700329T010000
RRULE:FREQ=YEARLY;BYMONTH=3;BYDAY=-1SU
END:DAYLIGHT
BEGIN:STANDARD
TZOFFSETFROM:+0100
TZOFFSETTO:+0000
TZNAME:GMT
DTSTART:19701025T020000
RRULE:FREQ=YEARLY;BYMONTH=10;BYDAY=-1SU
END:STANDARD
END:VTIMEZONE
BEGIN:VEVENT
UID:5106867:Event:1101
DTSTAMP:20260421T205850Z
SUMMARY:Working With Your Angels Workshop
DESCRIPTION:An opportunity to learn to work with your Angels guides mo
 re closely and with greater intimacy. As well as learning potent keys
  to unlock your intuition, using art and creativity, to connect with
  the Angels of man and the Guardians of Nature. \n \nWith  Jeorge A
 sare-Djan.\n( Sensitive and Angel photograher )\n \nEntrance: £10\n\
 nFor more information visit https://angelmanimages.com/events/working-
 with-your-angels
DTSTART;TZID=Europe/London:20110806T120000
DTEND;TZID=Europe/London:20110806T150000
CATEGORIES:workshop
LOCATION:Woodford Spiritualist Church
WEBSITE:http://www.woodfordchurch
URL:http://www.woodfordchurch
CONTACT:020 89896149
ORGANIZER;CN=Jeorge:https://angelmanimages.com/profile/Jeorge
ATTACH;FMTTYPE="image/jpeg":http://storage.ning.com/topology/rest/1.0/
 file/get/3056733921?profile=original
ATTENDEE;ROLE=REQ-PARTICIPANT;PARTSTAT=ACCEPTED;RSVP=TRUE;CN=Jeorge:ht
 tps://angelmanimages.com/profile/Jeorge
END:VEVENT
END:VCALENDAR
